BEGIN:VCALENDAR
CALSCALE:GREGORIAN
VERSION:2.0
METHOD:PUBLISH 
X-WR-CALNAME:
BEGIN:VEVENT
DTSTART;TZID=Europe/Paris:20260421T160000
DTEND;TZID=Europe/Paris:20260421T170000
SUMMARY:P'tite pêche à pied
CATEGORIE:Stages, Ateliers et Initiations
GEO:45.94585100000000;-1.31315600000000
LOCATION:Lieu communiqué à la réservation\, 17310 Saint-Pierre-d'Oléron\, France
URL:https://www.fest.fr/e/2447255
UID:2447255-1@fest.fr
END:VEVENT
BEGIN:VEVENT
DTSTART;TZID=Europe/Paris:20260422T160000
DTEND;TZID=Europe/Paris:20260422T170000
SUMMARY:P'tite pêche à pied
CATEGORIE:Stages, Ateliers et Initiations
GEO:45.94585100000000;-1.31315600000000
LOCATION:Lieu communiqué à la réservation\, 17310 Saint-Pierre-d'Oléron\, France
URL:https://www.fest.fr/e/2447255
UID:2447255-2@fest.fr
END:VEVENT
BEGIN:VEVENT
DTSTART;TZID=Europe/Paris:20260427T090000
DTEND;TZID=Europe/Paris:20260427T100000
SUMMARY:P'tite pêche à pied
CATEGORIE:Stages, Ateliers et Initiations
GEO:45.94585100000000;-1.31315600000000
LOCATION:Lieu communiqué à la réservation\, 17310 Saint-Pierre-d'Oléron\, France
URL:https://www.fest.fr/e/2447255
UID:2447255-3@fest.fr
END:VEVENT
BEGIN:VEVENT
DTSTART;TZID=Europe/Paris:20260429T100000
DTEND;TZID=Europe/Paris:20260429T110000
SUMMARY:P'tite pêche à pied
CATEGORIE:Stages, Ateliers et Initiations
GEO:45.94585100000000;-1.31315600000000
LOCATION:Lieu communiqué à la réservation\, 17310 Saint-Pierre-d'Oléron\, France
URL:https://www.fest.fr/e/2447255
UID:2447255-4@fest.fr
END:VEVENT
BEGIN:VEVENT
DTSTART;TZID=Europe/Paris:20260509T123456
DTEND;TZID=Europe/Paris:20260509T133456
SUMMARY:P'tite pêche à pied
CATEGORIE:Stages, Ateliers et Initiations
GEO:45.94585100000000;-1.31315600000000
LOCATION:Lieu communiqué à la réservation\, 17310 Saint-Pierre-d'Oléron\, France
URL:https://www.fest.fr/e/2447255
UID:2447255-5@fest.fr
END:VEVENT
BEGIN:VEVENT
DTSTART;TZID=Europe/Paris:20260515T123456
DTEND;TZID=Europe/Paris:20260515T133456
SUMMARY:P'tite pêche à pied
CATEGORIE:Stages, Ateliers et Initiations
GEO:45.94585100000000;-1.31315600000000
LOCATION:Lieu communiqué à la réservation\, 17310 Saint-Pierre-d'Oléron\, France
URL:https://www.fest.fr/e/2447255
UID:2447255-6@fest.fr
END:VEVENT
BEGIN:VEVENT
DTSTART;TZID=Europe/Paris:20260524T150000
DTEND;TZID=Europe/Paris:20260524T160000
SUMMARY:P'tite pêche à pied
CATEGORIE:Stages, Ateliers et Initiations
GEO:45.94585100000000;-1.31315600000000
LOCATION:Lieu communiqué à la réservation\, 17310 Saint-Pierre-d'Oléron\, France
URL:https://www.fest.fr/e/2447255
UID:2447255-7@fest.fr
END:VEVENT
END:VCALENDAR
