BEGIN:VCALENDAR
CALSCALE:GREGORIAN
VERSION:2.0
METHOD:PUBLISH 
X-WR-CALNAME:
BEGIN:VEVENT
DTSTART;TZID=Europe/Paris:20260420T143000
DTEND;TZID=Europe/Paris:20260420T153000
SUMMARY:Atelier relaxation
CATEGORIE:Stages, Ateliers et Initiations
GEO:46.09781700000000;3.17886200000000
LOCATION:- 14, allée des tilleuls
CCAS\, 03800 Gannat\, France
URL:https://www.fest.fr/e/2447238
UID:2447238-1@fest.fr
END:VEVENT
BEGIN:VEVENT
DTSTART;TZID=Europe/Paris:20260427T143000
DTEND;TZID=Europe/Paris:20260427T153000
SUMMARY:Atelier relaxation
CATEGORIE:Stages, Ateliers et Initiations
GEO:46.09781700000000;3.17886200000000
LOCATION:- 14, allée des tilleuls
CCAS\, 03800 Gannat\, France
URL:https://www.fest.fr/e/2447238
UID:2447238-2@fest.fr
END:VEVENT
BEGIN:VEVENT
DTSTART;TZID=Europe/Paris:20260504T143000
DTEND;TZID=Europe/Paris:20260504T153000
SUMMARY:Atelier relaxation
CATEGORIE:Stages, Ateliers et Initiations
GEO:46.09781700000000;3.17886200000000
LOCATION:- 14, allée des tilleuls
CCAS\, 03800 Gannat\, France
URL:https://www.fest.fr/e/2447238
UID:2447238-3@fest.fr
END:VEVENT
BEGIN:VEVENT
DTSTART;TZID=Europe/Paris:20260511T143000
DTEND;TZID=Europe/Paris:20260511T153000
SUMMARY:Atelier relaxation
CATEGORIE:Stages, Ateliers et Initiations
GEO:46.09781700000000;3.17886200000000
LOCATION:- 14, allée des tilleuls
CCAS\, 03800 Gannat\, France
URL:https://www.fest.fr/e/2447238
UID:2447238-4@fest.fr
END:VEVENT
BEGIN:VEVENT
DTSTART;TZID=Europe/Paris:20260518T143000
DTEND;TZID=Europe/Paris:20260518T153000
SUMMARY:Atelier relaxation
CATEGORIE:Stages, Ateliers et Initiations
GEO:46.09781700000000;3.17886200000000
LOCATION:- 14, allée des tilleuls
CCAS\, 03800 Gannat\, France
URL:https://www.fest.fr/e/2447238
UID:2447238-5@fest.fr
END:VEVENT
BEGIN:VEVENT
DTSTART;TZID=Europe/Paris:20260601T143000
DTEND;TZID=Europe/Paris:20260601T153000
SUMMARY:Atelier relaxation
CATEGORIE:Stages, Ateliers et Initiations
GEO:46.09781700000000;3.17886200000000
LOCATION:- 14, allée des tilleuls
CCAS\, 03800 Gannat\, France
URL:https://www.fest.fr/e/2447238
UID:2447238-6@fest.fr
END:VEVENT
END:VCALENDAR
