BEGIN:VCALENDAR
CALSCALE:GREGORIAN
VERSION:2.0
METHOD:PUBLISH 
X-WR-CALNAME:
BEGIN:VEVENT
DTSTART;TZID=Europe/Paris:20260417T190000
DTEND;TZID=Europe/Paris:20260417T200000
SUMMARY:Soirée tapas avec Chris Anim
CATEGORIE:Bals et Thés Dansants
GEO:44.35560500000000;5.12614100000000
LOCATION:La Restanque Chez Nadia\, 26110 Nyons\, France
URL:https://www.fest.fr/e/2447198
UID:2447198-1@fest.fr
END:VEVENT
END:VCALENDAR
