BEGIN:VCALENDAR
CALSCALE:GREGORIAN
VERSION:2.0
METHOD:PUBLISH 
X-WR-CALNAME:
BEGIN:VEVENT
DTSTART;TZID=Europe/Paris:20260528T200000
DTEND;TZID=Europe/Paris:20260528T210000
SUMMARY:Conte animaux pour clavier mal intentionné - Rots (14)
CATEGORIE:Spectacles et Théâtre
GEO:49.20502300000000;-0.47660200000000
LOCATION:Centre d’animation de Rots\, rue Haute Bonny\, 14980 Rots\, France
URL:https://www.fest.fr/e/2447196
UID:2447196-1@fest.fr
END:VEVENT
END:VCALENDAR
