BEGIN:VCALENDAR
CALSCALE:GREGORIAN
VERSION:2.0
METHOD:PUBLISH 
X-WR-CALNAME:
BEGIN:VEVENT
DTSTART;TZID=Europe/Paris:20260515T123456
DTEND;TZID=Europe/Paris:20260515T133456
SUMMARY:21ème tournoi international de Krachtbal
CATEGORIE:Sports
GEO:45.68357600000000;4.52627600000000
LOCATION:18 rue des Écoles
Stade Henri BADOT\, 69850 Duerne\, France
URL:https://www.fest.fr/e/2447176
UID:2447176-1@fest.fr
END:VEVENT
END:VCALENDAR
