BEGIN:VCALENDAR
CALSCALE:GREGORIAN
VERSION:2.0
METHOD:PUBLISH 
X-WR-CALNAME:
BEGIN:VEVENT
DTSTART;TZID=Europe/Paris:20260619T183000
DTEND;TZID=Europe/Paris:20260619T193000
SUMMARY:Le Souffle du Berger
CATEGORIE:Concerts et Musique
GEO:45.39842900000000;6.49579000000000
LOCATION:Chapelle Notre-Dame-de-la-Vie\, 4690 Route des Fées,  Les Belleville\, 73440 Les Belleville\, France
URL:https://www.fest.fr/e/2446992
UID:2446992-1@fest.fr
END:VEVENT
END:VCALENDAR
