BEGIN:VCALENDAR
CALSCALE:GREGORIAN
VERSION:2.0
METHOD:PUBLISH 
X-WR-CALNAME:
BEGIN:VEVENT
DTSTART;TZID=Europe/Paris:20260520T070000
DTEND;TZID=Europe/Paris:20260520T080000
SUMMARY:Joli mois de Mai responsable à vélo
CATEGORIE:Stages, Ateliers et Initiations
GEO:50.23401400000000;3.32952800000000
LOCATION:collège Jean Moulin\, 4 rue du 4 septembre\, 59141 Iwuy\, France
URL:https://www.fest.fr/e/2446972
UID:2446972-1@fest.fr
END:VEVENT
BEGIN:VEVENT
DTSTART;TZID=Europe/Paris:20260521T070000
DTEND;TZID=Europe/Paris:20260521T080000
SUMMARY:Joli mois de Mai responsable à vélo
CATEGORIE:Stages, Ateliers et Initiations
GEO:50.23401400000000;3.32952800000000
LOCATION:collège Jean Moulin\, 4 rue du 4 septembre\, 59141 Iwuy\, France
URL:https://www.fest.fr/e/2446972
UID:2446972-2@fest.fr
END:VEVENT
BEGIN:VEVENT
DTSTART;TZID=Europe/Paris:20260522T070000
DTEND;TZID=Europe/Paris:20260522T080000
SUMMARY:Joli mois de Mai responsable à vélo
CATEGORIE:Stages, Ateliers et Initiations
GEO:50.23401400000000;3.32952800000000
LOCATION:collège Jean Moulin\, 4 rue du 4 septembre\, 59141 Iwuy\, France
URL:https://www.fest.fr/e/2446972
UID:2446972-3@fest.fr
END:VEVENT
END:VCALENDAR
