BEGIN:VCALENDAR
CALSCALE:GREGORIAN
VERSION:2.0
METHOD:PUBLISH 
X-WR-CALNAME:
BEGIN:VEVENT
DTSTART;TZID=Europe/Paris:20260430T070000
DTEND;TZID=Europe/Paris:20260430T080000
SUMMARY:Grand marché du jeudi
CATEGORIE:Marchés, Foires et Salons
GEO:46.67424000000000;5.55910000000000
LOCATION:Place de Verdun\, 39000 Lons-le-Saunier\, France
URL:https://www.fest.fr/e/2446741
UID:2446741-1@fest.fr
END:VEVENT
BEGIN:VEVENT
DTSTART;TZID=Europe/Paris:20260507T070000
DTEND;TZID=Europe/Paris:20260507T080000
SUMMARY:Grand marché du jeudi
CATEGORIE:Marchés, Foires et Salons
GEO:46.67424000000000;5.55910000000000
LOCATION:Place de Verdun\, 39000 Lons-le-Saunier\, France
URL:https://www.fest.fr/e/2446741
UID:2446741-2@fest.fr
END:VEVENT
BEGIN:VEVENT
DTSTART;TZID=Europe/Paris:20260514T070000
DTEND;TZID=Europe/Paris:20260514T080000
SUMMARY:Grand marché du jeudi
CATEGORIE:Marchés, Foires et Salons
GEO:46.67424000000000;5.55910000000000
LOCATION:Place de Verdun\, 39000 Lons-le-Saunier\, France
URL:https://www.fest.fr/e/2446741
UID:2446741-3@fest.fr
END:VEVENT
BEGIN:VEVENT
DTSTART;TZID=Europe/Paris:20260521T070000
DTEND;TZID=Europe/Paris:20260521T080000
SUMMARY:Grand marché du jeudi
CATEGORIE:Marchés, Foires et Salons
GEO:46.67424000000000;5.55910000000000
LOCATION:Place de Verdun\, 39000 Lons-le-Saunier\, France
URL:https://www.fest.fr/e/2446741
UID:2446741-4@fest.fr
END:VEVENT
BEGIN:VEVENT
DTSTART;TZID=Europe/Paris:20260528T070000
DTEND;TZID=Europe/Paris:20260528T080000
SUMMARY:Grand marché du jeudi
CATEGORIE:Marchés, Foires et Salons
GEO:46.67424000000000;5.55910000000000
LOCATION:Place de Verdun\, 39000 Lons-le-Saunier\, France
URL:https://www.fest.fr/e/2446741
UID:2446741-5@fest.fr
END:VEVENT
BEGIN:VEVENT
DTSTART;TZID=Europe/Paris:20260604T070000
DTEND;TZID=Europe/Paris:20260604T080000
SUMMARY:Grand marché du jeudi
CATEGORIE:Marchés, Foires et Salons
GEO:46.67424000000000;5.55910000000000
LOCATION:Place de Verdun\, 39000 Lons-le-Saunier\, France
URL:https://www.fest.fr/e/2446741
UID:2446741-6@fest.fr
END:VEVENT
BEGIN:VEVENT
DTSTART;TZID=Europe/Paris:20260611T070000
DTEND;TZID=Europe/Paris:20260611T080000
SUMMARY:Grand marché du jeudi
CATEGORIE:Marchés, Foires et Salons
GEO:46.67424000000000;5.55910000000000
LOCATION:Place de Verdun\, 39000 Lons-le-Saunier\, France
URL:https://www.fest.fr/e/2446741
UID:2446741-7@fest.fr
END:VEVENT
BEGIN:VEVENT
DTSTART;TZID=Europe/Paris:20260618T070000
DTEND;TZID=Europe/Paris:20260618T080000
SUMMARY:Grand marché du jeudi
CATEGORIE:Marchés, Foires et Salons
GEO:46.67424000000000;5.55910000000000
LOCATION:Place de Verdun\, 39000 Lons-le-Saunier\, France
URL:https://www.fest.fr/e/2446741
UID:2446741-8@fest.fr
END:VEVENT
BEGIN:VEVENT
DTSTART;TZID=Europe/Paris:20260625T070000
DTEND;TZID=Europe/Paris:20260625T080000
SUMMARY:Grand marché du jeudi
CATEGORIE:Marchés, Foires et Salons
GEO:46.67424000000000;5.55910000000000
LOCATION:Place de Verdun\, 39000 Lons-le-Saunier\, France
URL:https://www.fest.fr/e/2446741
UID:2446741-9@fest.fr
END:VEVENT
BEGIN:VEVENT
DTSTART;TZID=Europe/Paris:20260702T070000
DTEND;TZID=Europe/Paris:20260702T080000
SUMMARY:Grand marché du jeudi
CATEGORIE:Marchés, Foires et Salons
GEO:46.67424000000000;5.55910000000000
LOCATION:Place de Verdun\, 39000 Lons-le-Saunier\, France
URL:https://www.fest.fr/e/2446741
UID:2446741-10@fest.fr
END:VEVENT
BEGIN:VEVENT
DTSTART;TZID=Europe/Paris:20260709T070000
DTEND;TZID=Europe/Paris:20260709T080000
SUMMARY:Grand marché du jeudi
CATEGORIE:Marchés, Foires et Salons
GEO:46.67424000000000;5.55910000000000
LOCATION:Place de Verdun\, 39000 Lons-le-Saunier\, France
URL:https://www.fest.fr/e/2446741
UID:2446741-11@fest.fr
END:VEVENT
BEGIN:VEVENT
DTSTART;TZID=Europe/Paris:20260716T070000
DTEND;TZID=Europe/Paris:20260716T080000
SUMMARY:Grand marché du jeudi
CATEGORIE:Marchés, Foires et Salons
GEO:46.67424000000000;5.55910000000000
LOCATION:Place de Verdun\, 39000 Lons-le-Saunier\, France
URL:https://www.fest.fr/e/2446741
UID:2446741-12@fest.fr
END:VEVENT
BEGIN:VEVENT
DTSTART;TZID=Europe/Paris:20260723T070000
DTEND;TZID=Europe/Paris:20260723T080000
SUMMARY:Grand marché du jeudi
CATEGORIE:Marchés, Foires et Salons
GEO:46.67424000000000;5.55910000000000
LOCATION:Place de Verdun\, 39000 Lons-le-Saunier\, France
URL:https://www.fest.fr/e/2446741
UID:2446741-13@fest.fr
END:VEVENT
BEGIN:VEVENT
DTSTART;TZID=Europe/Paris:20260730T070000
DTEND;TZID=Europe/Paris:20260730T080000
SUMMARY:Grand marché du jeudi
CATEGORIE:Marchés, Foires et Salons
GEO:46.67424000000000;5.55910000000000
LOCATION:Place de Verdun\, 39000 Lons-le-Saunier\, France
URL:https://www.fest.fr/e/2446741
UID:2446741-14@fest.fr
END:VEVENT
BEGIN:VEVENT
DTSTART;TZID=Europe/Paris:20260806T070000
DTEND;TZID=Europe/Paris:20260806T080000
SUMMARY:Grand marché du jeudi
CATEGORIE:Marchés, Foires et Salons
GEO:46.67424000000000;5.55910000000000
LOCATION:Place de Verdun\, 39000 Lons-le-Saunier\, France
URL:https://www.fest.fr/e/2446741
UID:2446741-15@fest.fr
END:VEVENT
BEGIN:VEVENT
DTSTART;TZID=Europe/Paris:20260813T070000
DTEND;TZID=Europe/Paris:20260813T080000
SUMMARY:Grand marché du jeudi
CATEGORIE:Marchés, Foires et Salons
GEO:46.67424000000000;5.55910000000000
LOCATION:Place de Verdun\, 39000 Lons-le-Saunier\, France
URL:https://www.fest.fr/e/2446741
UID:2446741-16@fest.fr
END:VEVENT
BEGIN:VEVENT
DTSTART;TZID=Europe/Paris:20260820T070000
DTEND;TZID=Europe/Paris:20260820T080000
SUMMARY:Grand marché du jeudi
CATEGORIE:Marchés, Foires et Salons
GEO:46.67424000000000;5.55910000000000
LOCATION:Place de Verdun\, 39000 Lons-le-Saunier\, France
URL:https://www.fest.fr/e/2446741
UID:2446741-17@fest.fr
END:VEVENT
BEGIN:VEVENT
DTSTART;TZID=Europe/Paris:20260827T070000
DTEND;TZID=Europe/Paris:20260827T080000
SUMMARY:Grand marché du jeudi
CATEGORIE:Marchés, Foires et Salons
GEO:46.67424000000000;5.55910000000000
LOCATION:Place de Verdun\, 39000 Lons-le-Saunier\, France
URL:https://www.fest.fr/e/2446741
UID:2446741-18@fest.fr
END:VEVENT
BEGIN:VEVENT
DTSTART;TZID=Europe/Paris:20260903T070000
DTEND;TZID=Europe/Paris:20260903T080000
SUMMARY:Grand marché du jeudi
CATEGORIE:Marchés, Foires et Salons
GEO:46.67424000000000;5.55910000000000
LOCATION:Place de Verdun\, 39000 Lons-le-Saunier\, France
URL:https://www.fest.fr/e/2446741
UID:2446741-19@fest.fr
END:VEVENT
BEGIN:VEVENT
DTSTART;TZID=Europe/Paris:20260910T070000
DTEND;TZID=Europe/Paris:20260910T080000
SUMMARY:Grand marché du jeudi
CATEGORIE:Marchés, Foires et Salons
GEO:46.67424000000000;5.55910000000000
LOCATION:Place de Verdun\, 39000 Lons-le-Saunier\, France
URL:https://www.fest.fr/e/2446741
UID:2446741-20@fest.fr
END:VEVENT
BEGIN:VEVENT
DTSTART;TZID=Europe/Paris:20260917T070000
DTEND;TZID=Europe/Paris:20260917T080000
SUMMARY:Grand marché du jeudi
CATEGORIE:Marchés, Foires et Salons
GEO:46.67424000000000;5.55910000000000
LOCATION:Place de Verdun\, 39000 Lons-le-Saunier\, France
URL:https://www.fest.fr/e/2446741
UID:2446741-21@fest.fr
END:VEVENT
BEGIN:VEVENT
DTSTART;TZID=Europe/Paris:20260924T070000
DTEND;TZID=Europe/Paris:20260924T080000
SUMMARY:Grand marché du jeudi
CATEGORIE:Marchés, Foires et Salons
GEO:46.67424000000000;5.55910000000000
LOCATION:Place de Verdun\, 39000 Lons-le-Saunier\, France
URL:https://www.fest.fr/e/2446741
UID:2446741-22@fest.fr
END:VEVENT
BEGIN:VEVENT
DTSTART;TZID=Europe/Paris:20261001T070000
DTEND;TZID=Europe/Paris:20261001T080000
SUMMARY:Grand marché du jeudi
CATEGORIE:Marchés, Foires et Salons
GEO:46.67424000000000;5.55910000000000
LOCATION:Place de Verdun\, 39000 Lons-le-Saunier\, France
URL:https://www.fest.fr/e/2446741
UID:2446741-23@fest.fr
END:VEVENT
BEGIN:VEVENT
DTSTART;TZID=Europe/Paris:20261008T070000
DTEND;TZID=Europe/Paris:20261008T080000
SUMMARY:Grand marché du jeudi
CATEGORIE:Marchés, Foires et Salons
GEO:46.67424000000000;5.55910000000000
LOCATION:Place de Verdun\, 39000 Lons-le-Saunier\, France
URL:https://www.fest.fr/e/2446741
UID:2446741-24@fest.fr
END:VEVENT
BEGIN:VEVENT
DTSTART;TZID=Europe/Paris:20261015T070000
DTEND;TZID=Europe/Paris:20261015T080000
SUMMARY:Grand marché du jeudi
CATEGORIE:Marchés, Foires et Salons
GEO:46.67424000000000;5.55910000000000
LOCATION:Place de Verdun\, 39000 Lons-le-Saunier\, France
URL:https://www.fest.fr/e/2446741
UID:2446741-25@fest.fr
END:VEVENT
BEGIN:VEVENT
DTSTART;TZID=Europe/Paris:20261022T070000
DTEND;TZID=Europe/Paris:20261022T080000
SUMMARY:Grand marché du jeudi
CATEGORIE:Marchés, Foires et Salons
GEO:46.67424000000000;5.55910000000000
LOCATION:Place de Verdun\, 39000 Lons-le-Saunier\, France
URL:https://www.fest.fr/e/2446741
UID:2446741-26@fest.fr
END:VEVENT
BEGIN:VEVENT
DTSTART;TZID=Europe/Paris:20261029T070000
DTEND;TZID=Europe/Paris:20261029T080000
SUMMARY:Grand marché du jeudi
CATEGORIE:Marchés, Foires et Salons
GEO:46.67424000000000;5.55910000000000
LOCATION:Place de Verdun\, 39000 Lons-le-Saunier\, France
URL:https://www.fest.fr/e/2446741
UID:2446741-27@fest.fr
END:VEVENT
BEGIN:VEVENT
DTSTART;TZID=Europe/Paris:20261105T070000
DTEND;TZID=Europe/Paris:20261105T080000
SUMMARY:Grand marché du jeudi
CATEGORIE:Marchés, Foires et Salons
GEO:46.67424000000000;5.55910000000000
LOCATION:Place de Verdun\, 39000 Lons-le-Saunier\, France
URL:https://www.fest.fr/e/2446741
UID:2446741-28@fest.fr
END:VEVENT
BEGIN:VEVENT
DTSTART;TZID=Europe/Paris:20261112T070000
DTEND;TZID=Europe/Paris:20261112T080000
SUMMARY:Grand marché du jeudi
CATEGORIE:Marchés, Foires et Salons
GEO:46.67424000000000;5.55910000000000
LOCATION:Place de Verdun\, 39000 Lons-le-Saunier\, France
URL:https://www.fest.fr/e/2446741
UID:2446741-29@fest.fr
END:VEVENT
BEGIN:VEVENT
DTSTART;TZID=Europe/Paris:20261119T070000
DTEND;TZID=Europe/Paris:20261119T080000
SUMMARY:Grand marché du jeudi
CATEGORIE:Marchés, Foires et Salons
GEO:46.67424000000000;5.55910000000000
LOCATION:Place de Verdun\, 39000 Lons-le-Saunier\, France
URL:https://www.fest.fr/e/2446741
UID:2446741-30@fest.fr
END:VEVENT
BEGIN:VEVENT
DTSTART;TZID=Europe/Paris:20261126T070000
DTEND;TZID=Europe/Paris:20261126T080000
SUMMARY:Grand marché du jeudi
CATEGORIE:Marchés, Foires et Salons
GEO:46.67424000000000;5.55910000000000
LOCATION:Place de Verdun\, 39000 Lons-le-Saunier\, France
URL:https://www.fest.fr/e/2446741
UID:2446741-31@fest.fr
END:VEVENT
BEGIN:VEVENT
DTSTART;TZID=Europe/Paris:20261203T070000
DTEND;TZID=Europe/Paris:20261203T080000
SUMMARY:Grand marché du jeudi
CATEGORIE:Marchés, Foires et Salons
GEO:46.67424000000000;5.55910000000000
LOCATION:Place de Verdun\, 39000 Lons-le-Saunier\, France
URL:https://www.fest.fr/e/2446741
UID:2446741-32@fest.fr
END:VEVENT
BEGIN:VEVENT
DTSTART;TZID=Europe/Paris:20261210T070000
DTEND;TZID=Europe/Paris:20261210T080000
SUMMARY:Grand marché du jeudi
CATEGORIE:Marchés, Foires et Salons
GEO:46.67424000000000;5.55910000000000
LOCATION:Place de Verdun\, 39000 Lons-le-Saunier\, France
URL:https://www.fest.fr/e/2446741
UID:2446741-33@fest.fr
END:VEVENT
BEGIN:VEVENT
DTSTART;TZID=Europe/Paris:20261217T070000
DTEND;TZID=Europe/Paris:20261217T080000
SUMMARY:Grand marché du jeudi
CATEGORIE:Marchés, Foires et Salons
GEO:46.67424000000000;5.55910000000000
LOCATION:Place de Verdun\, 39000 Lons-le-Saunier\, France
URL:https://www.fest.fr/e/2446741
UID:2446741-34@fest.fr
END:VEVENT
BEGIN:VEVENT
DTSTART;TZID=Europe/Paris:20261224T070000
DTEND;TZID=Europe/Paris:20261224T080000
SUMMARY:Grand marché du jeudi
CATEGORIE:Marchés, Foires et Salons
GEO:46.67424000000000;5.55910000000000
LOCATION:Place de Verdun\, 39000 Lons-le-Saunier\, France
URL:https://www.fest.fr/e/2446741
UID:2446741-35@fest.fr
END:VEVENT
BEGIN:VEVENT
DTSTART;TZID=Europe/Paris:20261231T070000
DTEND;TZID=Europe/Paris:20261231T080000
SUMMARY:Grand marché du jeudi
CATEGORIE:Marchés, Foires et Salons
GEO:46.67424000000000;5.55910000000000
LOCATION:Place de Verdun\, 39000 Lons-le-Saunier\, France
URL:https://www.fest.fr/e/2446741
UID:2446741-36@fest.fr
END:VEVENT
BEGIN:VEVENT
DTSTART;TZID=Europe/Paris:20270107T070000
DTEND;TZID=Europe/Paris:20270107T080000
SUMMARY:Grand marché du jeudi
CATEGORIE:Marchés, Foires et Salons
GEO:46.67424000000000;5.55910000000000
LOCATION:Place de Verdun\, 39000 Lons-le-Saunier\, France
URL:https://www.fest.fr/e/2446741
UID:2446741-37@fest.fr
END:VEVENT
BEGIN:VEVENT
DTSTART;TZID=Europe/Paris:20270114T070000
DTEND;TZID=Europe/Paris:20270114T080000
SUMMARY:Grand marché du jeudi
CATEGORIE:Marchés, Foires et Salons
GEO:46.67424000000000;5.55910000000000
LOCATION:Place de Verdun\, 39000 Lons-le-Saunier\, France
URL:https://www.fest.fr/e/2446741
UID:2446741-38@fest.fr
END:VEVENT
BEGIN:VEVENT
DTSTART;TZID=Europe/Paris:20270121T070000
DTEND;TZID=Europe/Paris:20270121T080000
SUMMARY:Grand marché du jeudi
CATEGORIE:Marchés, Foires et Salons
GEO:46.67424000000000;5.55910000000000
LOCATION:Place de Verdun\, 39000 Lons-le-Saunier\, France
URL:https://www.fest.fr/e/2446741
UID:2446741-39@fest.fr
END:VEVENT
BEGIN:VEVENT
DTSTART;TZID=Europe/Paris:20270128T070000
DTEND;TZID=Europe/Paris:20270128T080000
SUMMARY:Grand marché du jeudi
CATEGORIE:Marchés, Foires et Salons
GEO:46.67424000000000;5.55910000000000
LOCATION:Place de Verdun\, 39000 Lons-le-Saunier\, France
URL:https://www.fest.fr/e/2446741
UID:2446741-40@fest.fr
END:VEVENT
BEGIN:VEVENT
DTSTART;TZID=Europe/Paris:20270204T070000
DTEND;TZID=Europe/Paris:20270204T080000
SUMMARY:Grand marché du jeudi
CATEGORIE:Marchés, Foires et Salons
GEO:46.67424000000000;5.55910000000000
LOCATION:Place de Verdun\, 39000 Lons-le-Saunier\, France
URL:https://www.fest.fr/e/2446741
UID:2446741-41@fest.fr
END:VEVENT
BEGIN:VEVENT
DTSTART;TZID=Europe/Paris:20270211T070000
DTEND;TZID=Europe/Paris:20270211T080000
SUMMARY:Grand marché du jeudi
CATEGORIE:Marchés, Foires et Salons
GEO:46.67424000000000;5.55910000000000
LOCATION:Place de Verdun\, 39000 Lons-le-Saunier\, France
URL:https://www.fest.fr/e/2446741
UID:2446741-42@fest.fr
END:VEVENT
BEGIN:VEVENT
DTSTART;TZID=Europe/Paris:20270218T070000
DTEND;TZID=Europe/Paris:20270218T080000
SUMMARY:Grand marché du jeudi
CATEGORIE:Marchés, Foires et Salons
GEO:46.67424000000000;5.55910000000000
LOCATION:Place de Verdun\, 39000 Lons-le-Saunier\, France
URL:https://www.fest.fr/e/2446741
UID:2446741-43@fest.fr
END:VEVENT
BEGIN:VEVENT
DTSTART;TZID=Europe/Paris:20270225T070000
DTEND;TZID=Europe/Paris:20270225T080000
SUMMARY:Grand marché du jeudi
CATEGORIE:Marchés, Foires et Salons
GEO:46.67424000000000;5.55910000000000
LOCATION:Place de Verdun\, 39000 Lons-le-Saunier\, France
URL:https://www.fest.fr/e/2446741
UID:2446741-44@fest.fr
END:VEVENT
BEGIN:VEVENT
DTSTART;TZID=Europe/Paris:20270304T070000
DTEND;TZID=Europe/Paris:20270304T080000
SUMMARY:Grand marché du jeudi
CATEGORIE:Marchés, Foires et Salons
GEO:46.67424000000000;5.55910000000000
LOCATION:Place de Verdun\, 39000 Lons-le-Saunier\, France
URL:https://www.fest.fr/e/2446741
UID:2446741-45@fest.fr
END:VEVENT
BEGIN:VEVENT
DTSTART;TZID=Europe/Paris:20270311T070000
DTEND;TZID=Europe/Paris:20270311T080000
SUMMARY:Grand marché du jeudi
CATEGORIE:Marchés, Foires et Salons
GEO:46.67424000000000;5.55910000000000
LOCATION:Place de Verdun\, 39000 Lons-le-Saunier\, France
URL:https://www.fest.fr/e/2446741
UID:2446741-46@fest.fr
END:VEVENT
BEGIN:VEVENT
DTSTART;TZID=Europe/Paris:20270318T070000
DTEND;TZID=Europe/Paris:20270318T080000
SUMMARY:Grand marché du jeudi
CATEGORIE:Marchés, Foires et Salons
GEO:46.67424000000000;5.55910000000000
LOCATION:Place de Verdun\, 39000 Lons-le-Saunier\, France
URL:https://www.fest.fr/e/2446741
UID:2446741-47@fest.fr
END:VEVENT
BEGIN:VEVENT
DTSTART;TZID=Europe/Paris:20270325T070000
DTEND;TZID=Europe/Paris:20270325T080000
SUMMARY:Grand marché du jeudi
CATEGORIE:Marchés, Foires et Salons
GEO:46.67424000000000;5.55910000000000
LOCATION:Place de Verdun\, 39000 Lons-le-Saunier\, France
URL:https://www.fest.fr/e/2446741
UID:2446741-48@fest.fr
END:VEVENT
BEGIN:VEVENT
DTSTART;TZID=Europe/Paris:20270401T070000
DTEND;TZID=Europe/Paris:20270401T080000
SUMMARY:Grand marché du jeudi
CATEGORIE:Marchés, Foires et Salons
GEO:46.67424000000000;5.55910000000000
LOCATION:Place de Verdun\, 39000 Lons-le-Saunier\, France
URL:https://www.fest.fr/e/2446741
UID:2446741-49@fest.fr
END:VEVENT
BEGIN:VEVENT
DTSTART;TZID=Europe/Paris:20270408T070000
DTEND;TZID=Europe/Paris:20270408T080000
SUMMARY:Grand marché du jeudi
CATEGORIE:Marchés, Foires et Salons
GEO:46.67424000000000;5.55910000000000
LOCATION:Place de Verdun\, 39000 Lons-le-Saunier\, France
URL:https://www.fest.fr/e/2446741
UID:2446741-50@fest.fr
END:VEVENT
BEGIN:VEVENT
DTSTART;TZID=Europe/Paris:20270415T070000
DTEND;TZID=Europe/Paris:20270415T080000
SUMMARY:Grand marché du jeudi
CATEGORIE:Marchés, Foires et Salons
GEO:46.67424000000000;5.55910000000000
LOCATION:Place de Verdun\, 39000 Lons-le-Saunier\, France
URL:https://www.fest.fr/e/2446741
UID:2446741-51@fest.fr
END:VEVENT
BEGIN:VEVENT
DTSTART;TZID=Europe/Paris:20270422T070000
DTEND;TZID=Europe/Paris:20270422T080000
SUMMARY:Grand marché du jeudi
CATEGORIE:Marchés, Foires et Salons
GEO:46.67424000000000;5.55910000000000
LOCATION:Place de Verdun\, 39000 Lons-le-Saunier\, France
URL:https://www.fest.fr/e/2446741
UID:2446741-52@fest.fr
END:VEVENT
BEGIN:VEVENT
DTSTART;TZID=Europe/Paris:20270429T070000
DTEND;TZID=Europe/Paris:20270429T080000
SUMMARY:Grand marché du jeudi
CATEGORIE:Marchés, Foires et Salons
GEO:46.67424000000000;5.55910000000000
LOCATION:Place de Verdun\, 39000 Lons-le-Saunier\, France
URL:https://www.fest.fr/e/2446741
UID:2446741-53@fest.fr
END:VEVENT
BEGIN:VEVENT
DTSTART;TZID=Europe/Paris:20270506T070000
DTEND;TZID=Europe/Paris:20270506T080000
SUMMARY:Grand marché du jeudi
CATEGORIE:Marchés, Foires et Salons
GEO:46.67424000000000;5.55910000000000
LOCATION:Place de Verdun\, 39000 Lons-le-Saunier\, France
URL:https://www.fest.fr/e/2446741
UID:2446741-54@fest.fr
END:VEVENT
BEGIN:VEVENT
DTSTART;TZID=Europe/Paris:20270513T070000
DTEND;TZID=Europe/Paris:20270513T080000
SUMMARY:Grand marché du jeudi
CATEGORIE:Marchés, Foires et Salons
GEO:46.67424000000000;5.55910000000000
LOCATION:Place de Verdun\, 39000 Lons-le-Saunier\, France
URL:https://www.fest.fr/e/2446741
UID:2446741-55@fest.fr
END:VEVENT
BEGIN:VEVENT
DTSTART;TZID=Europe/Paris:20270520T070000
DTEND;TZID=Europe/Paris:20270520T080000
SUMMARY:Grand marché du jeudi
CATEGORIE:Marchés, Foires et Salons
GEO:46.67424000000000;5.55910000000000
LOCATION:Place de Verdun\, 39000 Lons-le-Saunier\, France
URL:https://www.fest.fr/e/2446741
UID:2446741-56@fest.fr
END:VEVENT
BEGIN:VEVENT
DTSTART;TZID=Europe/Paris:20270527T070000
DTEND;TZID=Europe/Paris:20270527T080000
SUMMARY:Grand marché du jeudi
CATEGORIE:Marchés, Foires et Salons
GEO:46.67424000000000;5.55910000000000
LOCATION:Place de Verdun\, 39000 Lons-le-Saunier\, France
URL:https://www.fest.fr/e/2446741
UID:2446741-57@fest.fr
END:VEVENT
END:VCALENDAR
