BEGIN:VCALENDAR
CALSCALE:GREGORIAN
VERSION:2.0
METHOD:PUBLISH 
X-WR-CALNAME:
BEGIN:VEVENT
DTSTART;TZID=Europe/Paris:20260425T193000
DTEND;TZID=Europe/Paris:20260425T203000
SUMMARY:Karaoké solidaire
CATEGORIE:Social et solidaire
GEO:46.82552550000000;6.34171071000000
LOCATION:Salle des Fêtes\, 25160 Montperreux\, France
URL:https://www.fest.fr/e/2446737
UID:2446737-1@fest.fr
END:VEVENT
END:VCALENDAR
