BEGIN:VCALENDAR
CALSCALE:GREGORIAN
VERSION:2.0
METHOD:PUBLISH 
X-WR-CALNAME:
BEGIN:VEVENT
DTSTART;TZID=Europe/Paris:20260506T100000
DTEND;TZID=Europe/Paris:20260506T110000
SUMMARY:Fête d'ouverture de la base de loisirs
CATEGORIE:Fêtes et Animations
GEO:48.05317080000000;0.65243385000000
LOCATION:Plan d'eau\, 72390 Lavaré\, France
URL:https://www.fest.fr/e/2446450
UID:2446450-1@fest.fr
END:VEVENT
END:VCALENDAR
