BEGIN:VCALENDAR
CALSCALE:GREGORIAN
VERSION:2.0
METHOD:PUBLISH 
X-WR-CALNAME:
BEGIN:VEVENT
DTSTART;TZID=Europe/Paris:20260523T100000
DTEND;TZID=Europe/Paris:20260523T110000
SUMMARY:Festival Terres de Rohan
CATEGORIE:Fêtes et Animations
GEO:48.07245990000000;-2.75354470000000
LOCATION:Rue du Lac\, 56580 Rohan\, France
URL:https://www.fest.fr/e/2446263
UID:2446263-1@fest.fr
END:VEVENT
END:VCALENDAR
