BEGIN:VCALENDAR
CALSCALE:GREGORIAN
VERSION:2.0
METHOD:PUBLISH 
X-WR-CALNAME:
BEGIN:VEVENT
DTSTART;TZID=Europe/Paris:20260521T193000
DTEND;TZID=Europe/Paris:20260521T203000
SUMMARY:Festival Culturissimo
CATEGORIE:Littérature
GEO:48.07158540000000;-2.96440930000000
LOCATION:Palais des congrès
Place des ducs de Rohan\, 56300 Pontivy\, France
URL:https://www.fest.fr/e/2446259
UID:2446259-1@fest.fr
END:VEVENT
END:VCALENDAR
