BEGIN:VCALENDAR
CALSCALE:GREGORIAN
VERSION:2.0
METHOD:PUBLISH 
X-WR-CALNAME:
BEGIN:VEVENT
DTSTART;TZID=Europe/Paris:20260723T153000
DTEND;TZID=Europe/Paris:20260723T163000
SUMMARY:Tous au potager
CATEGORIE:Stages, Ateliers et Initiations
GEO:49.63049000000000;0.77424000000000
LOCATION:20 Rue du Meniltat\, 76190 Baons-le-Comte\, France
URL:https://www.fest.fr/e/2445989
UID:2445989-1@fest.fr
END:VEVENT
END:VCALENDAR
