BEGIN:VCALENDAR
CALSCALE:GREGORIAN
VERSION:2.0
METHOD:PUBLISH 
X-WR-CALNAME:
BEGIN:VEVENT
DTSTART;TZID=Europe/Paris:20260502T090000
DTEND;TZID=Europe/Paris:20260502T100000
SUMMARY:Bourse aux plantes
CATEGORIE:Brocantes, Bourses et Vide-Greniers
GEO:43.86483250000000;-0.70650680000000
LOCATION:Bibliothèque Municipale de Meilhan
Route du Port d'Orion\, 40400 Meilhan\, France
URL:https://www.fest.fr/e/2445844
UID:2445844-1@fest.fr
END:VEVENT
END:VCALENDAR
