BEGIN:VCALENDAR
CALSCALE:GREGORIAN
VERSION:2.0
METHOD:PUBLISH 
X-WR-CALNAME:
BEGIN:VEVENT
DTSTART;TZID=Europe/Paris:20260530T100000
DTEND;TZID=Europe/Paris:20260530T110000
SUMMARY:Fête Mondiale du Jeu
CATEGORIE:Jeux et Concours
GEO:43.17962800000000;-0.26516730000000
LOCATION:28 Place du Marcadieu
Espace Culturel\, 64800 Nay\, France
URL:https://www.fest.fr/e/2445828
UID:2445828-1@fest.fr
END:VEVENT
END:VCALENDAR
