BEGIN:VCALENDAR
CALSCALE:GREGORIAN
VERSION:2.0
METHOD:PUBLISH 
X-WR-CALNAME:
BEGIN:VEVENT
DTSTART;TZID=Europe/Paris:20261025T130000
DTEND;TZID=Europe/Paris:20261025T140000
SUMMARY:3ème loto gourmand
CATEGORIE:Lotos
GEO:46.31973500000000;0.32363100000000
LOCATION:Salle des Fêtes\, 86160 Champagné-Saint-Hilaire\, France
URL:https://www.fest.fr/e/2445826
UID:2445826-1@fest.fr
END:VEVENT
END:VCALENDAR
