BEGIN:VCALENDAR
CALSCALE:GREGORIAN
VERSION:2.0
METHOD:PUBLISH 
X-WR-CALNAME:
BEGIN:VEVENT
DTSTART;TZID=Europe/Paris:20260605T140000
DTEND;TZID=Europe/Paris:20260605T150000
SUMMARY:Visite libre du jardin de Caradec
CATEGORIE:Expositions, Visites et Découvertes
GEO:47.70294600000000;-2.65354200000000
LOCATION:Jardin de Caradec\, Caradec, Morbihan, Bretagne\, 56250 Saint-Nolff\, France
URL:https://www.fest.fr/e/2445791
UID:2445791-1@fest.fr
END:VEVENT
BEGIN:VEVENT
DTSTART;TZID=Europe/Paris:20260606T100000
DTEND;TZID=Europe/Paris:20260606T110000
SUMMARY:Visite libre du jardin de Caradec
CATEGORIE:Expositions, Visites et Découvertes
GEO:47.70294600000000;-2.65354200000000
LOCATION:Jardin de Caradec\, Caradec, Morbihan, Bretagne\, 56250 Saint-Nolff\, France
URL:https://www.fest.fr/e/2445791
UID:2445791-2@fest.fr
END:VEVENT
BEGIN:VEVENT
DTSTART;TZID=Europe/Paris:20260606T140000
DTEND;TZID=Europe/Paris:20260606T150000
SUMMARY:Visite libre du jardin de Caradec
CATEGORIE:Expositions, Visites et Découvertes
GEO:47.70294600000000;-2.65354200000000
LOCATION:Jardin de Caradec\, Caradec, Morbihan, Bretagne\, 56250 Saint-Nolff\, France
URL:https://www.fest.fr/e/2445791
UID:2445791-3@fest.fr
END:VEVENT
BEGIN:VEVENT
DTSTART;TZID=Europe/Paris:20260607T100000
DTEND;TZID=Europe/Paris:20260607T110000
SUMMARY:Visite libre du jardin de Caradec
CATEGORIE:Expositions, Visites et Découvertes
GEO:47.70294600000000;-2.65354200000000
LOCATION:Jardin de Caradec\, Caradec, Morbihan, Bretagne\, 56250 Saint-Nolff\, France
URL:https://www.fest.fr/e/2445791
UID:2445791-4@fest.fr
END:VEVENT
BEGIN:VEVENT
DTSTART;TZID=Europe/Paris:20260607T140000
DTEND;TZID=Europe/Paris:20260607T150000
SUMMARY:Visite libre du jardin de Caradec
CATEGORIE:Expositions, Visites et Découvertes
GEO:47.70294600000000;-2.65354200000000
LOCATION:Jardin de Caradec\, Caradec, Morbihan, Bretagne\, 56250 Saint-Nolff\, France
URL:https://www.fest.fr/e/2445791
UID:2445791-5@fest.fr
END:VEVENT
END:VCALENDAR
