BEGIN:VCALENDAR
CALSCALE:GREGORIAN
VERSION:2.0
METHOD:PUBLISH 
X-WR-CALNAME:
BEGIN:VEVENT
DTSTART;TZID=Europe/Paris:20260418T180000
DTEND;TZID=Europe/Paris:20260418T190000
SUMMARY:La batterie & les percussions
CATEGORIE:Concerts et Musique
GEO:46.18584800000000;3.16216100000000
LOCATION:12, Grande Rue.
Salle des fêtes Charroux\, 03140 Charroux\, France
URL:https://www.fest.fr/e/2445149
UID:2445149-1@fest.fr
END:VEVENT
END:VCALENDAR
