BEGIN:VCALENDAR
CALSCALE:GREGORIAN
VERSION:2.0
METHOD:PUBLISH 
X-WR-CALNAME:
BEGIN:VEVENT
DTSTART;TZID=Europe/Paris:20260423T180000
DTEND;TZID=Europe/Paris:20260423T190000
SUMMARY:Conférence : Louis Bozon, architecte Art déco à Valence
CATEGORIE:Conférences, Forums et Débats
GEO:44.93235700000000;4.90377700000000
LOCATION:26 place Latour Maubourg
Archives et Patrimoine
Espace Latour Maubourg\, 26000 Valence\, France
URL:https://www.fest.fr/e/2445090
UID:2445090-1@fest.fr
END:VEVENT
END:VCALENDAR
