BEGIN:VCALENDAR
CALSCALE:GREGORIAN
VERSION:2.0
METHOD:PUBLISH 
X-WR-CALNAME:
BEGIN:VEVENT
DTSTART;TZID=Europe/Paris:20260523T103000
DTEND;TZID=Europe/Paris:20260523T113000
SUMMARY:Café philo
CATEGORIE:Conférences, Forums et Débats
GEO:49.35923675295060;6.16168743386842
LOCATION:1 place André Malraux\, 57100 Thionville\, France
URL:https://www.fest.fr/e/2445042
UID:2445042-1@fest.fr
END:VEVENT
END:VCALENDAR
