BEGIN:VCALENDAR
CALSCALE:GREGORIAN
VERSION:2.0
METHOD:PUBLISH 
X-WR-CALNAME:
BEGIN:VEVENT
DTSTART;TZID=Europe/Paris:20270319T200000
DTEND;TZID=Europe/Paris:20270319T210000
SUMMARY:TETE
CATEGORIE:Concerts et musique
GEO:45.25556000000000;5.66528000000000
LOCATION:32 RUE  DE LA FAUCONNERIE\, 38170 Seyssinet-Pariset\, France
URL:https://www.fest.fr/e/2444933
UID:2444933-1@fest.fr
END:VEVENT
END:VCALENDAR
