BEGIN:VCALENDAR
CALSCALE:GREGORIAN
VERSION:2.0
METHOD:PUBLISH 
X-WR-CALNAME:
BEGIN:VEVENT
DTSTART;TZID=Europe/Paris:20270212T200000
DTEND;TZID=Europe/Paris:20270212T210000
SUMMARY:CLEMENT VIKTOROVITCH
CATEGORIE:Spectacles et Théâtre
GEO:48.38613250000000;-4.53243230000000
LOCATION:Boulevard de Plymouth\, 29200 Brest\, France
URL:https://www.fest.fr/e/2444919
UID:2444919-1@fest.fr
END:VEVENT
END:VCALENDAR
