BEGIN:VCALENDAR
CALSCALE:GREGORIAN
VERSION:2.0
METHOD:PUBLISH 
X-WR-CALNAME:
BEGIN:VEVENT
DTSTART;TZID=Europe/Paris:20261015T203000
DTEND;TZID=Europe/Paris:20261015T213000
SUMMARY:Concert JOVIN WEBB
CATEGORIE:Concerts et Musique
GEO:50.70298000000000;3.19578900000000
LOCATION:Boîte À Musiques\, 15 rue Amédée Prouvost\, 59150 Wattrelos\, France
URL:https://www.fest.fr/e/2444892
UID:2444892-1@fest.fr
END:VEVENT
END:VCALENDAR
