BEGIN:VCALENDAR
CALSCALE:GREGORIAN
VERSION:2.0
METHOD:PUBLISH 
X-WR-CALNAME:
BEGIN:VEVENT
DTSTART;TZID=Europe/Paris:20260613T103000
DTEND;TZID=Europe/Paris:20260613T113000
SUMMARY:Visite guidée courte du Musée des Moulages
CATEGORIE:Expositions, Visites et Découvertes
GEO:43.63210700000000;3.87003100000000
LOCATION:Musée des Moulages\, Université de Paul-Valéry, route de Mende\, 34090 Montpellier\, France
URL:https://www.fest.fr/e/2444875
UID:2444875-1@fest.fr
END:VEVENT
BEGIN:VEVENT
DTSTART;TZID=Europe/Paris:20260613T113000
DTEND;TZID=Europe/Paris:20260613T123000
SUMMARY:Visite guidée courte du Musée des Moulages
CATEGORIE:Expositions, Visites et Découvertes
GEO:43.63210700000000;3.87003100000000
LOCATION:Musée des Moulages\, Université de Paul-Valéry, route de Mende\, 34090 Montpellier\, France
URL:https://www.fest.fr/e/2444875
UID:2444875-2@fest.fr
END:VEVENT
BEGIN:VEVENT
DTSTART;TZID=Europe/Paris:20260613T130000
DTEND;TZID=Europe/Paris:20260613T140000
SUMMARY:Visite guidée courte du Musée des Moulages
CATEGORIE:Expositions, Visites et Découvertes
GEO:43.63210700000000;3.87003100000000
LOCATION:Musée des Moulages\, Université de Paul-Valéry, route de Mende\, 34090 Montpellier\, France
URL:https://www.fest.fr/e/2444875
UID:2444875-3@fest.fr
END:VEVENT
BEGIN:VEVENT
DTSTART;TZID=Europe/Paris:20260613T140000
DTEND;TZID=Europe/Paris:20260613T150000
SUMMARY:Visite guidée courte du Musée des Moulages
CATEGORIE:Expositions, Visites et Découvertes
GEO:43.63210700000000;3.87003100000000
LOCATION:Musée des Moulages\, Université de Paul-Valéry, route de Mende\, 34090 Montpellier\, France
URL:https://www.fest.fr/e/2444875
UID:2444875-4@fest.fr
END:VEVENT
BEGIN:VEVENT
DTSTART;TZID=Europe/Paris:20260613T150000
DTEND;TZID=Europe/Paris:20260613T160000
SUMMARY:Visite guidée courte du Musée des Moulages
CATEGORIE:Expositions, Visites et Découvertes
GEO:43.63210700000000;3.87003100000000
LOCATION:Musée des Moulages\, Université de Paul-Valéry, route de Mende\, 34090 Montpellier\, France
URL:https://www.fest.fr/e/2444875
UID:2444875-5@fest.fr
END:VEVENT
BEGIN:VEVENT
DTSTART;TZID=Europe/Paris:20260613T160000
DTEND;TZID=Europe/Paris:20260613T170000
SUMMARY:Visite guidée courte du Musée des Moulages
CATEGORIE:Expositions, Visites et Découvertes
GEO:43.63210700000000;3.87003100000000
LOCATION:Musée des Moulages\, Université de Paul-Valéry, route de Mende\, 34090 Montpellier\, France
URL:https://www.fest.fr/e/2444875
UID:2444875-6@fest.fr
END:VEVENT
END:VCALENDAR
