BEGIN:VCALENDAR
CALSCALE:GREGORIAN
VERSION:2.0
METHOD:PUBLISH 
X-WR-CALNAME:
BEGIN:VEVENT
DTSTART;TZID=Europe/Paris:20260530T150000
DTEND;TZID=Europe/Paris:20260530T160000
SUMMARY:Vélo Parade 2026
CATEGORIE:Fêtes et Animations
GEO:43.59943200000000;3.13984500000000
LOCATION:Bédarieux\,  Voie Verte Passa Païs\, 34600 Bédarieux\, France
URL:https://www.fest.fr/e/2444826
UID:2444826-1@fest.fr
END:VEVENT
END:VCALENDAR
