BEGIN:VCALENDAR
CALSCALE:GREGORIAN
VERSION:2.0
METHOD:PUBLISH 
X-WR-CALNAME:
BEGIN:VEVENT
DTSTART;TZID=Europe/Paris:20260702T100000
DTEND;TZID=Europe/Paris:20260702T110000
SUMMARY:Tournée d'Alimentation Générale Culturelle
CATEGORIE:Spectacles et Théâtre
GEO:46.98568000000000;3.18277000000000
LOCATION:44B Rue de la Fosse aux Loups
ASEM\, 58000 Nevers\, France
URL:https://www.fest.fr/e/2444710
UID:2444710-1@fest.fr
END:VEVENT
END:VCALENDAR
