BEGIN:VCALENDAR
CALSCALE:GREGORIAN
VERSION:2.0
METHOD:PUBLISH 
X-WR-CALNAME:
BEGIN:VEVENT
DTSTART;TZID=Europe/Paris:20260725T190000
DTEND;TZID=Europe/Paris:20260725T200000
SUMMARY:APERO CONCERT BARBECUE avec BACKSTAGE et spectacle de feu
CATEGORIE:Concerts et Musique
GEO:47.70355480000000;3.99892456000000
LOCATION:Site du Vieux Château de Noyers\, 89310 Noyers\, France
URL:https://www.fest.fr/e/2444639
UID:2444639-1@fest.fr
END:VEVENT
END:VCALENDAR
