BEGIN:VCALENDAR
CALSCALE:GREGORIAN
VERSION:2.0
METHOD:PUBLISH 
X-WR-CALNAME:
BEGIN:VEVENT
DTSTART;TZID=Europe/Paris:20260606T193000
DTEND;TZID=Europe/Paris:20260606T203000
SUMMARY:Les bruits de l’eau #3 - Riu Pèira en quatuor
CATEGORIE:Concerts et Musique
GEO:43.50494600000000;5.38739100000000
LOCATION:Avenue Marcel Roche - Les Milles
Lavoir de nos grands-mères\, 13090 Aix-en-Provence\, France
URL:https://www.fest.fr/e/2444562
UID:2444562-1@fest.fr
END:VEVENT
END:VCALENDAR
