BEGIN:VCALENDAR
CALSCALE:GREGORIAN
VERSION:2.0
METHOD:PUBLISH 
X-WR-CALNAME:
BEGIN:VEVENT
DTSTART;TZID=Europe/Paris:20260429T194500
DTEND;TZID=Europe/Paris:20260429T204500
SUMMARY:Le voyage initiatique du tarot de Marseille
CATEGORIE:Spectacles et Théâtre
GEO:43.29490800000000;5.38353500000000
LOCATION:2 rue Vian
La Divine Comédie\, 13006 Marseille 6e\, France
URL:https://www.fest.fr/e/2444539
UID:2444539-1@fest.fr
END:VEVENT
END:VCALENDAR
