BEGIN:VCALENDAR
CALSCALE:GREGORIAN
VERSION:2.0
METHOD:PUBLISH 
X-WR-CALNAME:
BEGIN:VEVENT
DTSTART;TZID=Europe/Paris:20260418T200000
DTEND;TZID=Europe/Paris:20260418T210000
SUMMARY:Marseille Basketball contre Rognonas
CATEGORIE:Sports
GEO:43.27104500000000;5.40031000000000
LOCATION:81 Rue Raymond Teisseire
Palais des Sports\, 13009 Marseille 9e\, France
URL:https://www.fest.fr/e/2444531
UID:2444531-1@fest.fr
END:VEVENT
END:VCALENDAR
