BEGIN:VCALENDAR
CALSCALE:GREGORIAN
VERSION:2.0
METHOD:PUBLISH 
X-WR-CALNAME:
BEGIN:VEVENT
DTSTART;TZID=Europe/Paris:20260419T140000
DTEND;TZID=Europe/Paris:20260419T150000
SUMMARY:S.W.A.G. OUTSIDE
CATEGORIE:Social et solidaire
GEO:43.29549400000000;5.38606000000000
LOCATION:La Plaine
Place Jean Jaures\, 13001 Marseille 1er\, France
URL:https://www.fest.fr/e/2444492
UID:2444492-1@fest.fr
END:VEVENT
END:VCALENDAR
