BEGIN:VCALENDAR
CALSCALE:GREGORIAN
VERSION:2.0
METHOD:PUBLISH 
X-WR-CALNAME:
BEGIN:VEVENT
DTSTART;TZID=Europe/Paris:20260425T150000
DTEND;TZID=Europe/Paris:20260425T160000
SUMMARY:Le Mans et le cinéma
CATEGORIE:Expositions, Visites et Découvertes
GEO:48.00835430000000;0.19685780000000
LOCATION:43 Grande Rue
Maison du Pilier-Rouge\, 72000 Le Mans\, France
URL:https://www.fest.fr/e/2444450
UID:2444450-1@fest.fr
END:VEVENT
END:VCALENDAR
