BEGIN:VCALENDAR
CALSCALE:GREGORIAN
VERSION:2.0
METHOD:PUBLISH 
X-WR-CALNAME:
BEGIN:VEVENT
DTSTART;TZID=Europe/Paris:20260417T100000
DTEND;TZID=Europe/Paris:20260417T110000
SUMMARY:LES VACANCES D'AVRIL À LA FERME DE MAKALI
CATEGORIE:Stages, Ateliers et Initiations
GEO:47.56832680000000;-1.59023260000000
LOCATION:Ferme de Makali
Linel\, 44170 Nozay\, France
URL:https://www.fest.fr/e/2444431
UID:2444431-1@fest.fr
END:VEVENT
BEGIN:VEVENT
DTSTART;TZID=Europe/Paris:20260417T150000
DTEND;TZID=Europe/Paris:20260417T160000
SUMMARY:LES VACANCES D'AVRIL À LA FERME DE MAKALI
CATEGORIE:Stages, Ateliers et Initiations
GEO:47.56832680000000;-1.59023260000000
LOCATION:Ferme de Makali
Linel\, 44170 Nozay\, France
URL:https://www.fest.fr/e/2444431
UID:2444431-2@fest.fr
END:VEVENT
BEGIN:VEVENT
DTSTART;TZID=Europe/Paris:20260418T100000
DTEND;TZID=Europe/Paris:20260418T110000
SUMMARY:LES VACANCES D'AVRIL À LA FERME DE MAKALI
CATEGORIE:Stages, Ateliers et Initiations
GEO:47.56832680000000;-1.59023260000000
LOCATION:Ferme de Makali
Linel\, 44170 Nozay\, France
URL:https://www.fest.fr/e/2444431
UID:2444431-3@fest.fr
END:VEVENT
END:VCALENDAR
