BEGIN:VCALENDAR
CALSCALE:GREGORIAN
VERSION:2.0
METHOD:PUBLISH 
X-WR-CALNAME:
BEGIN:VEVENT
DTSTART;TZID=Europe/Paris:20260418T123456
DTEND;TZID=Europe/Paris:20260418T133456
SUMMARY:ABC EN FÊTE
CATEGORIE:Spectacles et Théâtre
GEO:44.44374290000000;3.93267140000000
LOCATION:12 Rue de la Gleyzette
LA LOCO'48\, 48800 Villefort\, France
URL:https://www.fest.fr/e/2444406
UID:2444406-1@fest.fr
END:VEVENT
BEGIN:VEVENT
DTSTART;TZID=Europe/Paris:20260418T180000
DTEND;TZID=Europe/Paris:20260418T190000
SUMMARY:ABC EN FÊTE
CATEGORIE:Spectacles et Théâtre
GEO:44.44374290000000;3.93267140000000
LOCATION:12 Rue de la Gleyzette
LA LOCO'48\, 48800 Villefort\, France
URL:https://www.fest.fr/e/2444406
UID:2444406-2@fest.fr
END:VEVENT
END:VCALENDAR
