BEGIN:VCALENDAR
CALSCALE:GREGORIAN
VERSION:2.0
METHOD:PUBLISH 
X-WR-CALNAME:
BEGIN:VEVENT
DTSTART;TZID=Europe/Paris:20260827T140000
DTEND;TZID=Europe/Paris:20260827T150000
SUMMARY:Rando-Goûter à Ty Lipous : Un Après-Midi à la Campagne
CATEGORIE:Randonnées et balades
GEO:48.53299000000000;-3.20916000000000
LOCATION:Ferme Ty Lipous
Lieu-dit Groesquer-Braz\, 22200 Moustéru\, France
URL:https://www.fest.fr/e/2444378
UID:2444378-1@fest.fr
END:VEVENT
END:VCALENDAR
