BEGIN:VCALENDAR
CALSCALE:GREGORIAN
VERSION:2.0
METHOD:PUBLISH 
X-WR-CALNAME:
BEGIN:VEVENT
DTSTART;TZID=Europe/Paris:20260815T140000
DTEND;TZID=Europe/Paris:20260815T150000
SUMMARY:Le dernier mystère de Ségurant
CATEGORIE:Jeux et Concours
GEO:48.07025000000000;-2.17281000000000
LOCATION:Centre de l'Imaginaire Arthurien
Château de Comper\, 56430 Concoret\, France
URL:https://www.fest.fr/e/2444326
UID:2444326-1@fest.fr
END:VEVENT
END:VCALENDAR
