BEGIN:VCALENDAR
CALSCALE:GREGORIAN
VERSION:2.0
METHOD:PUBLISH 
X-WR-CALNAME:
BEGIN:VEVENT
DTSTART;TZID=Europe/Paris:20260825T123456
DTEND;TZID=Europe/Paris:20260825T133456
SUMMARY:Visite du Moulin de Tremel
CATEGORIE:Expositions, Visites et Découvertes
GEO:48.01579000000000;-2.36977000000000
LOCATION:Village de Trémel\, 56430 Néant-sur-Yvel\, France
URL:https://www.fest.fr/e/2444302
UID:2444302-1@fest.fr
END:VEVENT
END:VCALENDAR
