BEGIN:VCALENDAR
CALSCALE:GREGORIAN
VERSION:2.0
METHOD:PUBLISH 
X-WR-CALNAME:
BEGIN:VEVENT
DTSTART;TZID=Europe/Paris:20260823T160000
DTEND;TZID=Europe/Paris:20260823T170000
SUMMARY:Contes et légendes de Brocéliande
CATEGORIE:Spectacles et Théâtre
GEO:48.07044780000000;-2.17317780000000
LOCATION:Centre de l'Imaginaire Arthurien
Château de Comper\, 56430 Concoret\, France
URL:https://www.fest.fr/e/2444195
UID:2444195-1@fest.fr
END:VEVENT
END:VCALENDAR
