BEGIN:VCALENDAR
CALSCALE:GREGORIAN
VERSION:2.0
METHOD:PUBLISH 
X-WR-CALNAME:
BEGIN:VEVENT
DTSTART;TZID=Europe/Paris:20260418T203000
DTEND;TZID=Europe/Paris:20260418T213000
SUMMARY:Concert Walk The Line - Rock'nroll
CATEGORIE:Concerts et Musique
GEO:47.90997820000000;-2.46563310000000
LOCATION:1 rue du Rocher
Café de la Forge\, 56800 Guillac\, France
URL:https://www.fest.fr/e/2444149
UID:2444149-1@fest.fr
END:VEVENT
END:VCALENDAR
