BEGIN:VCALENDAR
CALSCALE:GREGORIAN
VERSION:2.0
METHOD:PUBLISH 
X-WR-CALNAME:
BEGIN:VEVENT
DTSTART;TZID=Europe/Paris:20260606T080000
DTEND;TZID=Europe/Paris:20260606T090000
SUMMARY:Transhumance au Lac d'Estaing
CATEGORIE:Randonnées et balades
GEO:42.90765720000000;-0.20593810000000
LOCATION:ESTAING
Lac d'Estaing\, 65400 Estaing\, France
URL:https://www.fest.fr/e/2444061
UID:2444061-1@fest.fr
END:VEVENT
END:VCALENDAR
