BEGIN:VCALENDAR
CALSCALE:GREGORIAN
VERSION:2.0
METHOD:PUBLISH 
X-WR-CALNAME:
BEGIN:VEVENT
DTSTART;TZID=Europe/Paris:20260418T123456
DTEND;TZID=Europe/Paris:20260418T133456
SUMMARY:LA BACHÒCA !
CATEGORIE:Fêtes et Animations
GEO:43.60141840000000;3.85054230000000
LOCATION:64 Route de Lavérune\, 34070 Montpellier\, France
URL:https://www.fest.fr/e/2443990
UID:2443990-1@fest.fr
END:VEVENT
END:VCALENDAR
