BEGIN:VCALENDAR
CALSCALE:GREGORIAN
VERSION:2.0
METHOD:PUBLISH 
X-WR-CALNAME:
BEGIN:VEVENT
DTSTART;TZID=Europe/Paris:20260509T123456
DTEND;TZID=Europe/Paris:20260509T133456
SUMMARY:AUDITION MUSICALE ET IMPROS DES PETITS CLOWNS
CATEGORIE:Concerts et Musique
GEO:43.60429650000000;3.59613550000000
LOCATION:Salle polyvalente d'Aumelas\, 34230 Aumelas\, France
URL:https://www.fest.fr/e/2443971
UID:2443971-1@fest.fr
END:VEVENT
END:VCALENDAR
