BEGIN:VCALENDAR
CALSCALE:GREGORIAN
VERSION:2.0
METHOD:PUBLISH 
X-WR-CALNAME:
BEGIN:VEVENT
DTSTART;TZID=Europe/Paris:20260417T200000
DTEND;TZID=Europe/Paris:20260417T210000
SUMMARY:"Et toi même" en concert
CATEGORIE:Concerts et Musique
GEO:49.63825900000000;-1.62776490000000
LOCATION:59 rue Gambetta
Cherbourg-Octeville\, 50100 Cherbourg-en-Cotentin\, France
URL:https://www.fest.fr/e/2443782
UID:2443782-1@fest.fr
END:VEVENT
END:VCALENDAR
