BEGIN:VCALENDAR
CALSCALE:GREGORIAN
VERSION:2.0
METHOD:PUBLISH 
X-WR-CALNAME:
BEGIN:VEVENT
DTSTART;TZID=Europe/Paris:20260530T180000
DTEND;TZID=Europe/Paris:20260530T190000
SUMMARY:Escape game et illuminations à la Grosse Forge
CATEGORIE:Jeux et Concours
GEO:48.74201200000000;0.55279900000000
LOCATION:Musée de la Grosse Forge
Rue de la vieille forge\, 61270 Aube\, France
URL:https://www.fest.fr/e/2443768
UID:2443768-1@fest.fr
END:VEVENT
END:VCALENDAR
