BEGIN:VCALENDAR
CALSCALE:GREGORIAN
VERSION:2.0
METHOD:PUBLISH 
X-WR-CALNAME:
BEGIN:VEVENT
DTSTART;TZID=Europe/Paris:20260517T143000
DTEND;TZID=Europe/Paris:20260517T153000
SUMMARY:Main dans la main
CATEGORIE:Expositions, Visites et Découvertes
GEO:50.63758300000000;3.14859500000000
LOCATION:1 allée du Musée VIlleneuve-d'Ascq\, 59650 Villeneuve-d'Ascq\, France
URL:https://www.fest.fr/e/2443762
UID:2443762-1@fest.fr
END:VEVENT
END:VCALENDAR
