BEGIN:VCALENDAR
CALSCALE:GREGORIAN
VERSION:2.0
METHOD:PUBLISH 
X-WR-CALNAME:
BEGIN:VEVENT
DTSTART;TZID=Europe/Paris:20260501T090000
DTEND;TZID=Europe/Paris:20260501T100000
SUMMARY:Randonnée pédestre à Hautvillers
CATEGORIE:Randonnées et balades
GEO:49.08214000000000;3.94277000000000
LOCATION:Rue Fontaine Gillet\, 51160 Hautvillers\, France
URL:https://www.fest.fr/e/2443749
UID:2443749-1@fest.fr
END:VEVENT
END:VCALENDAR
