BEGIN:VCALENDAR
CALSCALE:GREGORIAN
VERSION:2.0
METHOD:PUBLISH 
X-WR-CALNAME:
BEGIN:VEVENT
DTSTART;TZID=Europe/Paris:20260517T090000
DTEND;TZID=Europe/Paris:20260517T100000
SUMMARY:Randonnées à Champguyon
CATEGORIE:Randonnées et balades
GEO:48.77915650000000;3.54130210000000
LOCATION:Rue de l'Église
Église\, 51310 Champguyon\, France
URL:https://www.fest.fr/e/2443723
UID:2443723-1@fest.fr
END:VEVENT
END:VCALENDAR
