BEGIN:VCALENDAR
CALSCALE:GREGORIAN
VERSION:2.0
METHOD:PUBLISH 
X-WR-CALNAME:
BEGIN:VEVENT
DTSTART;TZID=Europe/Paris:20260430T200000
DTEND;TZID=Europe/Paris:20260430T210000
SUMMARY:Adieu Monsieur Haffmann
CATEGORIE:Spectacles et Théâtre
GEO:43.30274940000000;-0.39557860000000
LOCATION:Place de la Mairie
Salle Robert de Lacaze\, 64140 Billère\, France
URL:https://www.fest.fr/e/2443550
UID:2443550-1@fest.fr
END:VEVENT
END:VCALENDAR
