BEGIN:VCALENDAR
CALSCALE:GREGORIAN
VERSION:2.0
METHOD:PUBLISH 
X-WR-CALNAME:
BEGIN:VEVENT
DTSTART;TZID=Europe/Paris:20260527T123456
DTEND;TZID=Europe/Paris:20260527T133456
SUMMARY:Micro-Folie
CATEGORIE:Expositions, Visites et Découvertes
GEO:43.87238320000000;-1.07264450000000
LOCATION:Salle des réunions\, 40260 Taller\, France
URL:https://www.fest.fr/e/2443457
UID:2443457-1@fest.fr
END:VEVENT
END:VCALENDAR
