BEGIN:VCALENDAR
CALSCALE:GREGORIAN
VERSION:2.0
METHOD:PUBLISH 
X-WR-CALNAME:
BEGIN:VEVENT
DTSTART;TZID=Europe/Paris:20260417T140000
DTEND;TZID=Europe/Paris:20260417T150000
SUMMARY:chant Karaoké
CATEGORIE:Stages, Ateliers et Initiations
GEO:44.08271110000000;-0.71840410000000
LOCATION:1 place de la grande lande
Maison Garbay\, 40630 Luglon\, France
URL:https://www.fest.fr/e/2443118
UID:2443118-1@fest.fr
END:VEVENT
END:VCALENDAR
